BEGIN:VCALENDAR
VERSION:2.0
PRODID:-//Rawls Baptist Church - ECPv6.15.20//NONSGML v1.0//EN
CALSCALE:GREGORIAN
METHOD:PUBLISH
X-ORIGINAL-URL:https://rawlsbc.org
X-WR-CALDESC:Events for Rawls Baptist Church
REFRESH-INTERVAL;VALUE=DURATION:PT1H
X-Robots-Tag:noindex
X-PUBLISHED-TTL:PT1H
BEGIN:VTIMEZONE
TZID:America/New_York
BEGIN:DAYLIGHT
TZOFFSETFROM:-0500
TZOFFSETTO:-0400
TZNAME:EDT
DTSTART:20240310T070000
END:DAYLIGHT
BEGIN:STANDARD
TZOFFSETFROM:-0400
TZOFFSETTO:-0500
TZNAME:EST
DTSTART:20241103T060000
END:STANDARD
BEGIN:DAYLIGHT
TZOFFSETFROM:-0500
TZOFFSETTO:-0400
TZNAME:EDT
DTSTART:20250309T070000
END:DAYLIGHT
BEGIN:STANDARD
TZOFFSETFROM:-0400
TZOFFSETTO:-0500
TZNAME:EST
DTSTART:20251102T060000
END:STANDARD
BEGIN:DAYLIGHT
TZOFFSETFROM:-0500
TZOFFSETTO:-0400
TZNAME:EDT
DTSTART:20260308T070000
END:DAYLIGHT
BEGIN:STANDARD
TZOFFSETFROM:-0400
TZOFFSETTO:-0500
TZNAME:EST
DTSTART:20261101T060000
END:STANDARD
END:VTIMEZONE
BEGIN:VEVENT
DTSTART;TZID=America/New_York:20251203T183000
DTEND;TZID=America/New_York:20251203T193000
DTSTAMP:20260421T183237
CREATED:20251124T235055Z
LAST-MODIFIED:20260306T174928Z
UID:10001099-1764786600-1764790200@rawlsbc.org
SUMMARY:Wednesday Service
DESCRIPTION:
URL:https://rawlsbc.org/event/wednesday-service-3/2025-12-03/
LOCATION:Rawls Baptist Church Sanctuary\, 10665 US-401\, Fuquay-Varina\, NC\, 27526\, United States
CATEGORIES:Bible Study Groups,Fuquay-Varina NC Church Activities,Midweek Worship,Rawls Baptist Church Events,Regular Services
ATTACH;FMTTYPE=image/heic:https://rawlsbc.org/wp-content/uploads/2025/09/rawls-baptist-church-in-evening-just-before-sunset-with-church-lights-glowing-faintly.jpg
ORGANIZER;CN="Rawls Baptist Church":MAILTO:admin@rawlsbc.org
END:VEVENT
BEGIN:VEVENT
DTSTART;TZID=America/New_York:20251206T110000
DTEND;TZID=America/New_York:20251206T120000
DTSTAMP:20260421T183237
CREATED:20250913T024903Z
LAST-MODIFIED:20260316T230840Z
UID:10000711-1765018800-1765022400@rawlsbc.org
SUMMARY:Calyx Bible Study
DESCRIPTION:
URL:https://rawlsbc.org/event/calyx-living-bible-study/2025-12-06/
LOCATION:Calyx Living of Fuquay-Varina\, 1121 E Academy St\, Fuquay-Varina\, NC\, 27526\, United States
CATEGORIES:Bible Study Groups,Community Outreach,Featured,Fuquay-Varina NC Church Activities,Senior Ministry
ATTACH;FMTTYPE=image/jpeg:https://rawlsbc.org/wp-content/uploads/2025/09/calyx-senior-living-bible-study-group-consisting-of-rawls-church-members-and-residents-gathered-in-a-circle-for-a-lesson.jpg
ORGANIZER;CN="Donnie Simpson":MAILTO:tddfencingandremodeling@yahoo.com
END:VEVENT
BEGIN:VEVENT
DTSTART;TZID=America/New_York:20251207T140000
DTEND;TZID=America/New_York:20251207T150000
DTSTAMP:20260421T183237
CREATED:20250904T211705Z
LAST-MODIFIED:20260306T205104Z
UID:10000532-1765116000-1765119600@rawlsbc.org
SUMMARY:Women's Ministry
DESCRIPTION:
URL:https://rawlsbc.org/event/womens-ministry/2025-12-07/
LOCATION:Rawls’ Baptist Church Fellowship Hall\, 10665 US-401\, Fuquay-Varina\, NC\, 27526\, United States
CATEGORIES:Bible Study Groups,Fuquay-Varina NC Church Activities,Rawls Baptist Church Events,Regular Services,Women's Ministry
ATTACH;FMTTYPE=image/jpeg:https://rawlsbc.org/wp-content/uploads/2025/09/rawls-baptist-church-wmu-meeting-event-banner.jpg
ORGANIZER;CN="Jennifer Orsak":MAILTO:N/A
END:VEVENT
BEGIN:VEVENT
DTSTART;TZID=America/New_York:20251210T183000
DTEND;TZID=America/New_York:20251210T193000
DTSTAMP:20260421T183237
CREATED:20251124T235055Z
LAST-MODIFIED:20260306T174928Z
UID:10001100-1765391400-1765395000@rawlsbc.org
SUMMARY:Wednesday Service
DESCRIPTION:
URL:https://rawlsbc.org/event/wednesday-service-3/2025-12-10/
LOCATION:Rawls Baptist Church Sanctuary\, 10665 US-401\, Fuquay-Varina\, NC\, 27526\, United States
CATEGORIES:Bible Study Groups,Fuquay-Varina NC Church Activities,Midweek Worship,Rawls Baptist Church Events,Regular Services
ATTACH;FMTTYPE=image/heic:https://rawlsbc.org/wp-content/uploads/2025/09/rawls-baptist-church-in-evening-just-before-sunset-with-church-lights-glowing-faintly.jpg
ORGANIZER;CN="Rawls Baptist Church":MAILTO:admin@rawlsbc.org
END:VEVENT
BEGIN:VEVENT
DTSTART;TZID=America/New_York:20251217T183000
DTEND;TZID=America/New_York:20251217T193000
DTSTAMP:20260421T183237
CREATED:20251124T235055Z
LAST-MODIFIED:20260306T174928Z
UID:10001101-1765996200-1765999800@rawlsbc.org
SUMMARY:Wednesday Service
DESCRIPTION:
URL:https://rawlsbc.org/event/wednesday-service-3/2025-12-17/
LOCATION:Rawls Baptist Church Sanctuary\, 10665 US-401\, Fuquay-Varina\, NC\, 27526\, United States
CATEGORIES:Bible Study Groups,Fuquay-Varina NC Church Activities,Midweek Worship,Rawls Baptist Church Events,Regular Services
ATTACH;FMTTYPE=image/heic:https://rawlsbc.org/wp-content/uploads/2025/09/rawls-baptist-church-in-evening-just-before-sunset-with-church-lights-glowing-faintly.jpg
ORGANIZER;CN="Rawls Baptist Church":MAILTO:admin@rawlsbc.org
END:VEVENT
BEGIN:VEVENT
DTSTART;TZID=America/New_York:20251220T110000
DTEND;TZID=America/New_York:20251220T120000
DTSTAMP:20260421T183237
CREATED:20250920T234308Z
LAST-MODIFIED:20260316T230745Z
UID:10001675-1766228400-1766232000@rawlsbc.org
SUMMARY:Calyx Bible Study
DESCRIPTION:
URL:https://rawlsbc.org/event/calyx-bible-study-fuquay-varina-nc/2025-12-20/
LOCATION:Calyx Living of Fuquay-Varina\, 1121 E Academy St\, Fuquay-Varina\, NC\, 27526\, United States
CATEGORIES:Bible Study Groups,Community Outreach,Featured,Fuquay-Varina NC Church Activities,Senior Ministry
ATTACH;FMTTYPE=image/jpeg:https://rawlsbc.org/wp-content/uploads/2025/09/calyx-bible-study-on-saturday-mornings-with-donnie-simpson-teaching.jpg
ORGANIZER;CN="Donnie Simpson":MAILTO:tddfencingandremodeling@yahoo.com
END:VEVENT
BEGIN:VEVENT
DTSTART;TZID=America/New_York:20251224T183000
DTEND;TZID=America/New_York:20251224T193000
DTSTAMP:20260421T183237
CREATED:20251124T235055Z
LAST-MODIFIED:20260306T174928Z
UID:10003388-1766601000-1766604600@rawlsbc.org
SUMMARY:Wednesday Service
DESCRIPTION:
URL:https://rawlsbc.org/event/wednesday-service-3/2025-12-24/
LOCATION:Rawls Baptist Church Sanctuary\, 10665 US-401\, Fuquay-Varina\, NC\, 27526\, United States
CATEGORIES:Bible Study Groups,Fuquay-Varina NC Church Activities,Midweek Worship,Rawls Baptist Church Events,Regular Services
ATTACH;FMTTYPE=image/heic:https://rawlsbc.org/wp-content/uploads/2025/09/rawls-baptist-church-in-evening-just-before-sunset-with-church-lights-glowing-faintly.jpg
ORGANIZER;CN="Rawls Baptist Church":MAILTO:admin@rawlsbc.org
END:VEVENT
BEGIN:VEVENT
DTSTART;TZID=America/New_York:20251231T183000
DTEND;TZID=America/New_York:20251231T193000
DTSTAMP:20260421T183237
CREATED:20251124T235055Z
LAST-MODIFIED:20260306T174928Z
UID:10003389-1767205800-1767209400@rawlsbc.org
SUMMARY:Wednesday Service
DESCRIPTION:
URL:https://rawlsbc.org/event/wednesday-service-3/2025-12-31/
LOCATION:Rawls Baptist Church Sanctuary\, 10665 US-401\, Fuquay-Varina\, NC\, 27526\, United States
CATEGORIES:Bible Study Groups,Fuquay-Varina NC Church Activities,Midweek Worship,Rawls Baptist Church Events,Regular Services
ATTACH;FMTTYPE=image/heic:https://rawlsbc.org/wp-content/uploads/2025/09/rawls-baptist-church-in-evening-just-before-sunset-with-church-lights-glowing-faintly.jpg
ORGANIZER;CN="Rawls Baptist Church":MAILTO:admin@rawlsbc.org
END:VEVENT
END:VCALENDAR