BEGIN:VCALENDAR
VERSION:2.0
PRODID:-//Rawls Baptist Church - ECPv6.15.20//NONSGML v1.0//EN
CALSCALE:GREGORIAN
METHOD:PUBLISH
X-WR-CALNAME:Rawls Baptist Church
X-ORIGINAL-URL:https://rawlsbc.org
X-WR-CALDESC:Events for Rawls Baptist Church
REFRESH-INTERVAL;VALUE=DURATION:PT1H
X-Robots-Tag:noindex
X-PUBLISHED-TTL:PT1H
BEGIN:VTIMEZONE
TZID:America/New_York
BEGIN:DAYLIGHT
TZOFFSETFROM:-0500
TZOFFSETTO:-0400
TZNAME:EDT
DTSTART:20250309T070000
END:DAYLIGHT
BEGIN:STANDARD
TZOFFSETFROM:-0400
TZOFFSETTO:-0500
TZNAME:EST
DTSTART:20251102T060000
END:STANDARD
BEGIN:DAYLIGHT
TZOFFSETFROM:-0500
TZOFFSETTO:-0400
TZNAME:EDT
DTSTART:20260308T070000
END:DAYLIGHT
BEGIN:STANDARD
TZOFFSETFROM:-0400
TZOFFSETTO:-0500
TZNAME:EST
DTSTART:20261101T060000
END:STANDARD
BEGIN:DAYLIGHT
TZOFFSETFROM:-0500
TZOFFSETTO:-0400
TZNAME:EDT
DTSTART:20270314T070000
END:DAYLIGHT
BEGIN:STANDARD
TZOFFSETFROM:-0400
TZOFFSETTO:-0500
TZNAME:EST
DTSTART:20271107T060000
END:STANDARD
END:VTIMEZONE
BEGIN:VEVENT
DTSTART;TZID=America/New_York:20260201T104500
DTEND;TZID=America/New_York:20260201T120000
DTSTAMP:20260421T163702
CREATED:20260124T012623Z
LAST-MODIFIED:20260306T215611Z
UID:10003082-1769942700-1769947200@rawlsbc.org
SUMMARY:Sunday Service
DESCRIPTION:
URL:https://rawlsbc.org/event/sunday-service-2/2026-02-01/
LOCATION:Rawls Baptist Church Sanctuary\, 10665 US-401\, Fuquay-Varina\, NC\, 27526\, United States
CATEGORIES:Bible Study Groups,Fuquay-Varina NC Church Activities,Rawls Baptist Church Events,Regular Services,Weekly Worship Services
ATTACH;FMTTYPE=image/jpeg:https://rawlsbc.org/wp-content/uploads/2025/09/rawls-baptist-church-pastor-brandon-sunday-service.jpg
ORGANIZER;CN="Rawls Baptist Church":MAILTO:admin@rawlsbc.org
END:VEVENT
BEGIN:VEVENT
DTSTART;TZID=America/New_York:20260201T140000
DTEND;TZID=America/New_York:20260201T150000
DTSTAMP:20260421T163702
CREATED:20250904T211705Z
LAST-MODIFIED:20260306T205104Z
UID:10000534-1769954400-1769958000@rawlsbc.org
SUMMARY:Women's Ministry
DESCRIPTION:
URL:https://rawlsbc.org/event/womens-ministry/2026-02-01/
LOCATION:Rawls’ Baptist Church Fellowship Hall\, 10665 US-401\, Fuquay-Varina\, NC\, 27526\, United States
CATEGORIES:Bible Study Groups,Fuquay-Varina NC Church Activities,Rawls Baptist Church Events,Regular Services,Women's Ministry
ATTACH;FMTTYPE=image/jpeg:https://rawlsbc.org/wp-content/uploads/2025/09/rawls-baptist-church-wmu-meeting-event-banner.jpg
ORGANIZER;CN="Jennifer Orsak":MAILTO:N/A
END:VEVENT
BEGIN:VEVENT
DTSTART;TZID=America/New_York:20260204T183000
DTEND;TZID=America/New_York:20260204T193000
DTSTAMP:20260421T163702
CREATED:20251124T235055Z
LAST-MODIFIED:20260306T174928Z
UID:10001108-1770229800-1770233400@rawlsbc.org
SUMMARY:Wednesday Service
DESCRIPTION:
URL:https://rawlsbc.org/event/wednesday-service-3/2026-02-04/
LOCATION:Rawls Baptist Church Sanctuary\, 10665 US-401\, Fuquay-Varina\, NC\, 27526\, United States
CATEGORIES:Bible Study Groups,Fuquay-Varina NC Church Activities,Midweek Worship,Rawls Baptist Church Events,Regular Services
ATTACH;FMTTYPE=image/heic:https://rawlsbc.org/wp-content/uploads/2025/09/rawls-baptist-church-in-evening-just-before-sunset-with-church-lights-glowing-faintly.jpg
ORGANIZER;CN="Rawls Baptist Church":MAILTO:admin@rawlsbc.org
END:VEVENT
BEGIN:VEVENT
DTSTART;TZID=America/New_York:20260207T110000
DTEND;TZID=America/New_York:20260207T120000
DTSTAMP:20260421T163702
CREATED:20250913T024903Z
LAST-MODIFIED:20260316T230840Z
UID:10000713-1770462000-1770465600@rawlsbc.org
SUMMARY:Calyx Bible Study
DESCRIPTION:
URL:https://rawlsbc.org/event/calyx-living-bible-study/2026-02-07/
LOCATION:Calyx Living of Fuquay-Varina\, 1121 E Academy St\, Fuquay-Varina\, NC\, 27526\, United States
CATEGORIES:Bible Study Groups,Community Outreach,Featured,Fuquay-Varina NC Church Activities,Senior Ministry
ATTACH;FMTTYPE=image/jpeg:https://rawlsbc.org/wp-content/uploads/2025/09/calyx-senior-living-bible-study-group-consisting-of-rawls-church-members-and-residents-gathered-in-a-circle-for-a-lesson.jpg
ORGANIZER;CN="Donnie Simpson":MAILTO:tddfencingandremodeling@yahoo.com
END:VEVENT
BEGIN:VEVENT
DTSTART;TZID=America/New_York:20260208T104500
DTEND;TZID=America/New_York:20260208T120000
DTSTAMP:20260421T163702
CREATED:20260124T012623Z
LAST-MODIFIED:20260306T215611Z
UID:10003083-1770547500-1770552000@rawlsbc.org
SUMMARY:Sunday Service
DESCRIPTION:
URL:https://rawlsbc.org/event/sunday-service-2/2026-02-08/
LOCATION:Rawls Baptist Church Sanctuary\, 10665 US-401\, Fuquay-Varina\, NC\, 27526\, United States
CATEGORIES:Bible Study Groups,Fuquay-Varina NC Church Activities,Rawls Baptist Church Events,Regular Services,Weekly Worship Services
ATTACH;FMTTYPE=image/jpeg:https://rawlsbc.org/wp-content/uploads/2025/09/rawls-baptist-church-pastor-brandon-sunday-service.jpg
ORGANIZER;CN="Rawls Baptist Church":MAILTO:admin@rawlsbc.org
END:VEVENT
BEGIN:VEVENT
DTSTART;TZID=America/New_York:20260211T183000
DTEND;TZID=America/New_York:20260211T193000
DTSTAMP:20260421T163702
CREATED:20251124T235055Z
LAST-MODIFIED:20260306T174928Z
UID:10001109-1770834600-1770838200@rawlsbc.org
SUMMARY:Wednesday Service
DESCRIPTION:
URL:https://rawlsbc.org/event/wednesday-service-3/2026-02-11/
LOCATION:Rawls Baptist Church Sanctuary\, 10665 US-401\, Fuquay-Varina\, NC\, 27526\, United States
CATEGORIES:Bible Study Groups,Fuquay-Varina NC Church Activities,Midweek Worship,Rawls Baptist Church Events,Regular Services
ATTACH;FMTTYPE=image/heic:https://rawlsbc.org/wp-content/uploads/2025/09/rawls-baptist-church-in-evening-just-before-sunset-with-church-lights-glowing-faintly.jpg
ORGANIZER;CN="Rawls Baptist Church":MAILTO:admin@rawlsbc.org
END:VEVENT
BEGIN:VEVENT
DTSTART;TZID=America/New_York:20260215T104500
DTEND;TZID=America/New_York:20260215T120000
DTSTAMP:20260421T163702
CREATED:20260124T012623Z
LAST-MODIFIED:20260306T215611Z
UID:10003084-1771152300-1771156800@rawlsbc.org
SUMMARY:Sunday Service
DESCRIPTION:
URL:https://rawlsbc.org/event/sunday-service-2/2026-02-15/
LOCATION:Rawls Baptist Church Sanctuary\, 10665 US-401\, Fuquay-Varina\, NC\, 27526\, United States
CATEGORIES:Bible Study Groups,Fuquay-Varina NC Church Activities,Rawls Baptist Church Events,Regular Services,Weekly Worship Services
ATTACH;FMTTYPE=image/jpeg:https://rawlsbc.org/wp-content/uploads/2025/09/rawls-baptist-church-pastor-brandon-sunday-service.jpg
ORGANIZER;CN="Rawls Baptist Church":MAILTO:admin@rawlsbc.org
END:VEVENT
BEGIN:VEVENT
DTSTART;TZID=America/New_York:20260218T183000
DTEND;TZID=America/New_York:20260218T193000
DTSTAMP:20260421T163702
CREATED:20251124T235055Z
LAST-MODIFIED:20260306T174928Z
UID:10001110-1771439400-1771443000@rawlsbc.org
SUMMARY:Wednesday Service
DESCRIPTION:
URL:https://rawlsbc.org/event/wednesday-service-3/2026-02-18/
LOCATION:Rawls Baptist Church Sanctuary\, 10665 US-401\, Fuquay-Varina\, NC\, 27526\, United States
CATEGORIES:Bible Study Groups,Fuquay-Varina NC Church Activities,Midweek Worship,Rawls Baptist Church Events,Regular Services
ATTACH;FMTTYPE=image/heic:https://rawlsbc.org/wp-content/uploads/2025/09/rawls-baptist-church-in-evening-just-before-sunset-with-church-lights-glowing-faintly.jpg
ORGANIZER;CN="Rawls Baptist Church":MAILTO:admin@rawlsbc.org
END:VEVENT
BEGIN:VEVENT
DTSTART;TZID=America/New_York:20260221T110000
DTEND;TZID=America/New_York:20260221T120000
DTSTAMP:20260421T163702
CREATED:20250920T234308Z
LAST-MODIFIED:20260316T230745Z
UID:10001677-1771671600-1771675200@rawlsbc.org
SUMMARY:Calyx Bible Study
DESCRIPTION:
URL:https://rawlsbc.org/event/calyx-bible-study-fuquay-varina-nc/2026-02-21/
LOCATION:Calyx Living of Fuquay-Varina\, 1121 E Academy St\, Fuquay-Varina\, NC\, 27526\, United States
CATEGORIES:Bible Study Groups,Community Outreach,Featured,Fuquay-Varina NC Church Activities,Senior Ministry
ATTACH;FMTTYPE=image/jpeg:https://rawlsbc.org/wp-content/uploads/2025/09/calyx-bible-study-on-saturday-mornings-with-donnie-simpson-teaching.jpg
ORGANIZER;CN="Donnie Simpson":MAILTO:tddfencingandremodeling@yahoo.com
END:VEVENT
BEGIN:VEVENT
DTSTART;TZID=America/New_York:20260222T104500
DTEND;TZID=America/New_York:20260222T120000
DTSTAMP:20260421T163702
CREATED:20260124T012623Z
LAST-MODIFIED:20260306T215611Z
UID:10003085-1771757100-1771761600@rawlsbc.org
SUMMARY:Sunday Service
DESCRIPTION:
URL:https://rawlsbc.org/event/sunday-service-2/2026-02-22/
LOCATION:Rawls Baptist Church Sanctuary\, 10665 US-401\, Fuquay-Varina\, NC\, 27526\, United States
CATEGORIES:Bible Study Groups,Fuquay-Varina NC Church Activities,Rawls Baptist Church Events,Regular Services,Weekly Worship Services
ATTACH;FMTTYPE=image/jpeg:https://rawlsbc.org/wp-content/uploads/2025/09/rawls-baptist-church-pastor-brandon-sunday-service.jpg
ORGANIZER;CN="Rawls Baptist Church":MAILTO:admin@rawlsbc.org
END:VEVENT
BEGIN:VEVENT
DTSTART;TZID=America/New_York:20260225T183000
DTEND;TZID=America/New_York:20260225T193000
DTSTAMP:20260421T163702
CREATED:20251124T235055Z
LAST-MODIFIED:20260306T174928Z
UID:10001111-1772044200-1772047800@rawlsbc.org
SUMMARY:Wednesday Service
DESCRIPTION:
URL:https://rawlsbc.org/event/wednesday-service-3/2026-02-25/
LOCATION:Rawls Baptist Church Sanctuary\, 10665 US-401\, Fuquay-Varina\, NC\, 27526\, United States
CATEGORIES:Bible Study Groups,Fuquay-Varina NC Church Activities,Midweek Worship,Rawls Baptist Church Events,Regular Services
ATTACH;FMTTYPE=image/heic:https://rawlsbc.org/wp-content/uploads/2025/09/rawls-baptist-church-in-evening-just-before-sunset-with-church-lights-glowing-faintly.jpg
ORGANIZER;CN="Rawls Baptist Church":MAILTO:admin@rawlsbc.org
END:VEVENT
END:VCALENDAR