BEGIN:VCALENDAR
VERSION:2.0
PRODID:-//Rawls Baptist Church - ECPv6.15.20//NONSGML v1.0//EN
CALSCALE:GREGORIAN
METHOD:PUBLISH
X-WR-CALNAME:Rawls Baptist Church
X-ORIGINAL-URL:https://rawlsbc.org
X-WR-CALDESC:Events for Rawls Baptist Church
REFRESH-INTERVAL;VALUE=DURATION:PT1H
X-Robots-Tag:noindex
X-PUBLISHED-TTL:PT1H
BEGIN:VTIMEZONE
TZID:America/New_York
BEGIN:DAYLIGHT
TZOFFSETFROM:-0500
TZOFFSETTO:-0400
TZNAME:EDT
DTSTART:20250309T070000
END:DAYLIGHT
BEGIN:STANDARD
TZOFFSETFROM:-0400
TZOFFSETTO:-0500
TZNAME:EST
DTSTART:20251102T060000
END:STANDARD
BEGIN:DAYLIGHT
TZOFFSETFROM:-0500
TZOFFSETTO:-0400
TZNAME:EDT
DTSTART:20260308T070000
END:DAYLIGHT
BEGIN:STANDARD
TZOFFSETFROM:-0400
TZOFFSETTO:-0500
TZNAME:EST
DTSTART:20261101T060000
END:STANDARD
BEGIN:DAYLIGHT
TZOFFSETFROM:-0500
TZOFFSETTO:-0400
TZNAME:EDT
DTSTART:20270314T070000
END:DAYLIGHT
BEGIN:STANDARD
TZOFFSETFROM:-0400
TZOFFSETTO:-0500
TZNAME:EST
DTSTART:20271107T060000
END:STANDARD
END:VTIMEZONE
BEGIN:VEVENT
DTSTART;TZID=America/New_York:20260603T183000
DTEND;TZID=America/New_York:20260603T193000
DTSTAMP:20260421T181528
CREATED:20251124T235055Z
LAST-MODIFIED:20260306T174928Z
UID:10001125-1780511400-1780515000@rawlsbc.org
SUMMARY:Wednesday Service
DESCRIPTION:
URL:https://rawlsbc.org/event/wednesday-service-3/2026-06-03/
LOCATION:Rawls Baptist Church Sanctuary\, 10665 US-401\, Fuquay-Varina\, NC\, 27526\, United States
CATEGORIES:Bible Study Groups,Fuquay-Varina NC Church Activities,Midweek Worship,Rawls Baptist Church Events,Regular Services
ATTACH;FMTTYPE=image/heic:https://rawlsbc.org/wp-content/uploads/2025/09/rawls-baptist-church-in-evening-just-before-sunset-with-church-lights-glowing-faintly.jpg
ORGANIZER;CN="Rawls Baptist Church":MAILTO:admin@rawlsbc.org
END:VEVENT
BEGIN:VEVENT
DTSTART;TZID=America/New_York:20260606T110000
DTEND;TZID=America/New_York:20260606T120000
DTSTAMP:20260421T181528
CREATED:20250913T024903Z
LAST-MODIFIED:20260316T230840Z
UID:10000717-1780743600-1780747200@rawlsbc.org
SUMMARY:Calyx Bible Study
DESCRIPTION:
URL:https://rawlsbc.org/event/calyx-living-bible-study/2026-06-06/
LOCATION:Calyx Living of Fuquay-Varina\, 1121 E Academy St\, Fuquay-Varina\, NC\, 27526\, United States
CATEGORIES:Bible Study Groups,Community Outreach,Featured,Fuquay-Varina NC Church Activities,Senior Ministry
ATTACH;FMTTYPE=image/jpeg:https://rawlsbc.org/wp-content/uploads/2025/09/calyx-senior-living-bible-study-group-consisting-of-rawls-church-members-and-residents-gathered-in-a-circle-for-a-lesson.jpg
ORGANIZER;CN="Donnie Simpson":MAILTO:tddfencingandremodeling@yahoo.com
END:VEVENT
BEGIN:VEVENT
DTSTART;TZID=America/New_York:20260607T104500
DTEND;TZID=America/New_York:20260607T120000
DTSTAMP:20260421T181528
CREATED:20260124T012623Z
LAST-MODIFIED:20260306T215611Z
UID:10003100-1780829100-1780833600@rawlsbc.org
SUMMARY:Sunday Service
DESCRIPTION:
URL:https://rawlsbc.org/event/sunday-service-2/2026-06-07/
LOCATION:Rawls Baptist Church Sanctuary\, 10665 US-401\, Fuquay-Varina\, NC\, 27526\, United States
CATEGORIES:Bible Study Groups,Fuquay-Varina NC Church Activities,Rawls Baptist Church Events,Regular Services,Weekly Worship Services
ATTACH;FMTTYPE=image/jpeg:https://rawlsbc.org/wp-content/uploads/2025/09/rawls-baptist-church-pastor-brandon-sunday-service.jpg
ORGANIZER;CN="Rawls Baptist Church":MAILTO:admin@rawlsbc.org
END:VEVENT
BEGIN:VEVENT
DTSTART;TZID=America/New_York:20260607T140000
DTEND;TZID=America/New_York:20260607T150000
DTSTAMP:20260421T181528
CREATED:20250904T211705Z
LAST-MODIFIED:20260306T205104Z
UID:10000538-1780840800-1780844400@rawlsbc.org
SUMMARY:Women's Ministry
DESCRIPTION:
URL:https://rawlsbc.org/event/womens-ministry/2026-06-07/
LOCATION:Rawls’ Baptist Church Fellowship Hall\, 10665 US-401\, Fuquay-Varina\, NC\, 27526\, United States
CATEGORIES:Bible Study Groups,Fuquay-Varina NC Church Activities,Rawls Baptist Church Events,Regular Services,Women's Ministry
ATTACH;FMTTYPE=image/jpeg:https://rawlsbc.org/wp-content/uploads/2025/09/rawls-baptist-church-wmu-meeting-event-banner.jpg
ORGANIZER;CN="Jennifer Orsak":MAILTO:N/A
END:VEVENT
BEGIN:VEVENT
DTSTART;TZID=America/New_York:20260610T183000
DTEND;TZID=America/New_York:20260610T193000
DTSTAMP:20260421T181528
CREATED:20251124T235055Z
LAST-MODIFIED:20260306T174928Z
UID:10001126-1781116200-1781119800@rawlsbc.org
SUMMARY:Wednesday Service
DESCRIPTION:
URL:https://rawlsbc.org/event/wednesday-service-3/2026-06-10/
LOCATION:Rawls Baptist Church Sanctuary\, 10665 US-401\, Fuquay-Varina\, NC\, 27526\, United States
CATEGORIES:Bible Study Groups,Fuquay-Varina NC Church Activities,Midweek Worship,Rawls Baptist Church Events,Regular Services
ATTACH;FMTTYPE=image/heic:https://rawlsbc.org/wp-content/uploads/2025/09/rawls-baptist-church-in-evening-just-before-sunset-with-church-lights-glowing-faintly.jpg
ORGANIZER;CN="Rawls Baptist Church":MAILTO:admin@rawlsbc.org
END:VEVENT
BEGIN:VEVENT
DTSTART;TZID=America/New_York:20260614T104500
DTEND;TZID=America/New_York:20260614T120000
DTSTAMP:20260421T181528
CREATED:20260124T012623Z
LAST-MODIFIED:20260306T215611Z
UID:10003101-1781433900-1781438400@rawlsbc.org
SUMMARY:Sunday Service
DESCRIPTION:
URL:https://rawlsbc.org/event/sunday-service-2/2026-06-14/
LOCATION:Rawls Baptist Church Sanctuary\, 10665 US-401\, Fuquay-Varina\, NC\, 27526\, United States
CATEGORIES:Bible Study Groups,Fuquay-Varina NC Church Activities,Rawls Baptist Church Events,Regular Services,Weekly Worship Services
ATTACH;FMTTYPE=image/jpeg:https://rawlsbc.org/wp-content/uploads/2025/09/rawls-baptist-church-pastor-brandon-sunday-service.jpg
ORGANIZER;CN="Rawls Baptist Church":MAILTO:admin@rawlsbc.org
END:VEVENT
BEGIN:VEVENT
DTSTART;TZID=America/New_York:20260617T183000
DTEND;TZID=America/New_York:20260617T193000
DTSTAMP:20260421T181528
CREATED:20251124T235055Z
LAST-MODIFIED:20260306T174928Z
UID:10001127-1781721000-1781724600@rawlsbc.org
SUMMARY:Wednesday Service
DESCRIPTION:
URL:https://rawlsbc.org/event/wednesday-service-3/2026-06-17/
LOCATION:Rawls Baptist Church Sanctuary\, 10665 US-401\, Fuquay-Varina\, NC\, 27526\, United States
CATEGORIES:Bible Study Groups,Fuquay-Varina NC Church Activities,Midweek Worship,Rawls Baptist Church Events,Regular Services
ATTACH;FMTTYPE=image/heic:https://rawlsbc.org/wp-content/uploads/2025/09/rawls-baptist-church-in-evening-just-before-sunset-with-church-lights-glowing-faintly.jpg
ORGANIZER;CN="Rawls Baptist Church":MAILTO:admin@rawlsbc.org
END:VEVENT
BEGIN:VEVENT
DTSTART;TZID=America/New_York:20260620T110000
DTEND;TZID=America/New_York:20260620T120000
DTSTAMP:20260421T181528
CREATED:20250920T234308Z
LAST-MODIFIED:20260316T230745Z
UID:10001681-1781953200-1781956800@rawlsbc.org
SUMMARY:Calyx Bible Study
DESCRIPTION:
URL:https://rawlsbc.org/event/calyx-bible-study-fuquay-varina-nc/2026-06-20/
LOCATION:Calyx Living of Fuquay-Varina\, 1121 E Academy St\, Fuquay-Varina\, NC\, 27526\, United States
CATEGORIES:Bible Study Groups,Community Outreach,Featured,Fuquay-Varina NC Church Activities,Senior Ministry
ATTACH;FMTTYPE=image/jpeg:https://rawlsbc.org/wp-content/uploads/2025/09/calyx-bible-study-on-saturday-mornings-with-donnie-simpson-teaching.jpg
ORGANIZER;CN="Donnie Simpson":MAILTO:tddfencingandremodeling@yahoo.com
END:VEVENT
BEGIN:VEVENT
DTSTART;TZID=America/New_York:20260621T104500
DTEND;TZID=America/New_York:20260621T120000
DTSTAMP:20260421T181528
CREATED:20260124T012623Z
LAST-MODIFIED:20260306T215611Z
UID:10003102-1782038700-1782043200@rawlsbc.org
SUMMARY:Sunday Service
DESCRIPTION:
URL:https://rawlsbc.org/event/sunday-service-2/2026-06-21/
LOCATION:Rawls Baptist Church Sanctuary\, 10665 US-401\, Fuquay-Varina\, NC\, 27526\, United States
CATEGORIES:Bible Study Groups,Fuquay-Varina NC Church Activities,Rawls Baptist Church Events,Regular Services,Weekly Worship Services
ATTACH;FMTTYPE=image/jpeg:https://rawlsbc.org/wp-content/uploads/2025/09/rawls-baptist-church-pastor-brandon-sunday-service.jpg
ORGANIZER;CN="Rawls Baptist Church":MAILTO:admin@rawlsbc.org
END:VEVENT
BEGIN:VEVENT
DTSTART;TZID=America/New_York:20260624T183000
DTEND;TZID=America/New_York:20260624T193000
DTSTAMP:20260421T181528
CREATED:20251124T235055Z
LAST-MODIFIED:20260306T174928Z
UID:10001128-1782325800-1782329400@rawlsbc.org
SUMMARY:Wednesday Service
DESCRIPTION:
URL:https://rawlsbc.org/event/wednesday-service-3/2026-06-24/
LOCATION:Rawls Baptist Church Sanctuary\, 10665 US-401\, Fuquay-Varina\, NC\, 27526\, United States
CATEGORIES:Bible Study Groups,Fuquay-Varina NC Church Activities,Midweek Worship,Rawls Baptist Church Events,Regular Services
ATTACH;FMTTYPE=image/heic:https://rawlsbc.org/wp-content/uploads/2025/09/rawls-baptist-church-in-evening-just-before-sunset-with-church-lights-glowing-faintly.jpg
ORGANIZER;CN="Rawls Baptist Church":MAILTO:admin@rawlsbc.org
END:VEVENT
END:VCALENDAR