BEGIN:VCALENDAR
VERSION:2.0
PRODID:-//Rawls Baptist Church - ECPv6.15.20//NONSGML v1.0//EN
CALSCALE:GREGORIAN
METHOD:PUBLISH
X-ORIGINAL-URL:https://rawlsbc.org
X-WR-CALDESC:Events for Rawls Baptist Church
REFRESH-INTERVAL;VALUE=DURATION:PT1H
X-Robots-Tag:noindex
X-PUBLISHED-TTL:PT1H
BEGIN:VTIMEZONE
TZID:America/New_York
BEGIN:DAYLIGHT
TZOFFSETFROM:-0500
TZOFFSETTO:-0400
TZNAME:EDT
DTSTART:20250309T070000
END:DAYLIGHT
BEGIN:STANDARD
TZOFFSETFROM:-0400
TZOFFSETTO:-0500
TZNAME:EST
DTSTART:20251102T060000
END:STANDARD
BEGIN:DAYLIGHT
TZOFFSETFROM:-0500
TZOFFSETTO:-0400
TZNAME:EDT
DTSTART:20260308T070000
END:DAYLIGHT
BEGIN:STANDARD
TZOFFSETFROM:-0400
TZOFFSETTO:-0500
TZNAME:EST
DTSTART:20261101T060000
END:STANDARD
BEGIN:DAYLIGHT
TZOFFSETFROM:-0500
TZOFFSETTO:-0400
TZNAME:EDT
DTSTART:20270314T070000
END:DAYLIGHT
BEGIN:STANDARD
TZOFFSETFROM:-0400
TZOFFSETTO:-0500
TZNAME:EST
DTSTART:20271107T060000
END:STANDARD
END:VTIMEZONE
BEGIN:VEVENT
DTSTART;TZID=America/New_York:20261202T183000
DTEND;TZID=America/New_York:20261202T193000
DTSTAMP:20260422T065309
CREATED:20251124T235055Z
LAST-MODIFIED:20260306T174928Z
UID:10001151-1796236200-1796239800@rawlsbc.org
SUMMARY:Wednesday Service
DESCRIPTION:
URL:https://rawlsbc.org/event/wednesday-service-3/2026-12-02/
LOCATION:Rawls Baptist Church Sanctuary\, 10665 US-401\, Fuquay-Varina\, NC\, 27526\, United States
CATEGORIES:Bible Study Groups,Fuquay-Varina NC Church Activities,Midweek Worship,Rawls Baptist Church Events,Regular Services
ATTACH;FMTTYPE=image/heic:https://rawlsbc.org/wp-content/uploads/2025/09/rawls-baptist-church-in-evening-just-before-sunset-with-church-lights-glowing-faintly.jpg
ORGANIZER;CN="Rawls Baptist Church":MAILTO:admin@rawlsbc.org
END:VEVENT
BEGIN:VEVENT
DTSTART;TZID=America/New_York:20261209T183000
DTEND;TZID=America/New_York:20261209T193000
DTSTAMP:20260422T065309
CREATED:20251124T235055Z
LAST-MODIFIED:20260306T174928Z
UID:10001152-1796841000-1796844600@rawlsbc.org
SUMMARY:Wednesday Service
DESCRIPTION:
URL:https://rawlsbc.org/event/wednesday-service-3/2026-12-09/
LOCATION:Rawls Baptist Church Sanctuary\, 10665 US-401\, Fuquay-Varina\, NC\, 27526\, United States
CATEGORIES:Bible Study Groups,Fuquay-Varina NC Church Activities,Midweek Worship,Rawls Baptist Church Events,Regular Services
ATTACH;FMTTYPE=image/heic:https://rawlsbc.org/wp-content/uploads/2025/09/rawls-baptist-church-in-evening-just-before-sunset-with-church-lights-glowing-faintly.jpg
ORGANIZER;CN="Rawls Baptist Church":MAILTO:admin@rawlsbc.org
END:VEVENT
BEGIN:VEVENT
DTSTART;TZID=America/New_York:20261216T183000
DTEND;TZID=America/New_York:20261216T193000
DTSTAMP:20260422T065309
CREATED:20251124T235055Z
LAST-MODIFIED:20260306T174928Z
UID:10001153-1797445800-1797449400@rawlsbc.org
SUMMARY:Wednesday Service
DESCRIPTION:
URL:https://rawlsbc.org/event/wednesday-service-3/2026-12-16/
LOCATION:Rawls Baptist Church Sanctuary\, 10665 US-401\, Fuquay-Varina\, NC\, 27526\, United States
CATEGORIES:Bible Study Groups,Fuquay-Varina NC Church Activities,Midweek Worship,Rawls Baptist Church Events,Regular Services
ATTACH;FMTTYPE=image/heic:https://rawlsbc.org/wp-content/uploads/2025/09/rawls-baptist-church-in-evening-just-before-sunset-with-church-lights-glowing-faintly.jpg
ORGANIZER;CN="Rawls Baptist Church":MAILTO:admin@rawlsbc.org
END:VEVENT
BEGIN:VEVENT
DTSTART;TZID=America/New_York:20261223T183000
DTEND;TZID=America/New_York:20261223T193000
DTSTAMP:20260422T065309
CREATED:20251124T235055Z
LAST-MODIFIED:20260306T174928Z
UID:10001154-1798050600-1798054200@rawlsbc.org
SUMMARY:Wednesday Service
DESCRIPTION:
URL:https://rawlsbc.org/event/wednesday-service-3/2026-12-23/
LOCATION:Rawls Baptist Church Sanctuary\, 10665 US-401\, Fuquay-Varina\, NC\, 27526\, United States
CATEGORIES:Bible Study Groups,Fuquay-Varina NC Church Activities,Midweek Worship,Rawls Baptist Church Events,Regular Services
ATTACH;FMTTYPE=image/heic:https://rawlsbc.org/wp-content/uploads/2025/09/rawls-baptist-church-in-evening-just-before-sunset-with-church-lights-glowing-faintly.jpg
ORGANIZER;CN="Rawls Baptist Church":MAILTO:admin@rawlsbc.org
END:VEVENT
BEGIN:VEVENT
DTSTART;TZID=America/New_York:20261230T183000
DTEND;TZID=America/New_York:20261230T193000
DTSTAMP:20260422T065309
CREATED:20251124T235055Z
LAST-MODIFIED:20260306T174928Z
UID:10001155-1798655400-1798659000@rawlsbc.org
SUMMARY:Wednesday Service
DESCRIPTION:
URL:https://rawlsbc.org/event/wednesday-service-3/2026-12-30/
LOCATION:Rawls Baptist Church Sanctuary\, 10665 US-401\, Fuquay-Varina\, NC\, 27526\, United States
CATEGORIES:Bible Study Groups,Fuquay-Varina NC Church Activities,Midweek Worship,Rawls Baptist Church Events,Regular Services
ATTACH;FMTTYPE=image/heic:https://rawlsbc.org/wp-content/uploads/2025/09/rawls-baptist-church-in-evening-just-before-sunset-with-church-lights-glowing-faintly.jpg
ORGANIZER;CN="Rawls Baptist Church":MAILTO:admin@rawlsbc.org
END:VEVENT
END:VCALENDAR